BEGIN:VCALENDAR
VERSION:2.0
PRODID:-// - ECPv6.13.2.1//NONSGML v1.0//EN
CALSCALE:GREGORIAN
METHOD:PUBLISH
X-ORIGINAL-URL:https://www.glendalempls.org
X-WR-CALDESC:Events for 
REFRESH-INTERVAL;VALUE=DURATION:PT1H
X-Robots-Tag:noindex
X-PUBLISHED-TTL:PT1H
BEGIN:VTIMEZONE
TZID:UTC
BEGIN:STANDARD
TZOFFSETFROM:+0000
TZOFFSETTO:+0000
TZNAME:UTC
DTSTART:20220101T000000
END:STANDARD
END:VTIMEZONE
BEGIN:VEVENT
DTSTART;TZID=UTC:20220129T140000
DTEND;TZID=UTC:20220129T160000
DTSTAMP:20260423T181226
CREATED:20211225T014504Z
LAST-MODIFIED:20211225T014504Z
UID:9023-1643464800-1643472000@www.glendalempls.org
SUMMARY:Congregation Session 1
DESCRIPTION:Church learning session
URL:https://www.glendalempls.org/calendar/congregation-session-1/
END:VEVENT
BEGIN:VEVENT
DTSTART;TZID=UTC:20220116T100000
DTEND;TZID=UTC:20220116T120000
DTSTAMP:20260423T181226
CREATED:20211225T014110Z
LAST-MODIFIED:20211225T014110Z
UID:9021-1642327200-1642334400@www.glendalempls.org
SUMMARY:1st Quarter Business Meeting
DESCRIPTION:
URL:https://www.glendalempls.org/calendar/1st-quarter-business-meeting/
END:VEVENT
BEGIN:VEVENT
DTSTART;TZID=UTC:20220112T075000
DTEND;TZID=UTC:20220112T165000
DTSTAMP:20260423T181226
CREATED:20220108T103558Z
LAST-MODIFIED:20220108T103558Z
UID:9029-1641973800-1642006200@www.glendalempls.org
SUMMARY:LRC Day of Prayer & Fasting
DESCRIPTION:From LRC President Garth Gabriel:  \nThe Lake Region Conference administration is calling all Pastors\, Teachers\, Staff\, and Constituents to “Stand Together as One” for a day of prayer and fasting. We are coming before our Lord and Savior to petition God for comfort to those who have lost loved ones\, for the healing of our affected members\, families\, and friends\, and for the curtailing and eventual cessation of this dreaded virus. The day of prayer and fasting will be on Wednesday\, January 12\, 2022\, from sunrise until sunset.\nWe will culminate our day of prayer and fasting with a special Zoom session where our administrators will close out the day. All are welcome to attend. Please see the Zoom links below. \nTopic: Standing Together as One in Fasting & Prayer\nTime: Jan 12\, 2022\, 04:30 PM Central Time (the US and Canada) \nJoin Zoom Meeting\nlrcsda.zoom.us/j/95025431475?pwd=Wkh5ajYrbGVSSHVOM29CeitMUjRNQT09 \nMeeting ID: 950 2543 1475\nPasscode: 833630\nOne tap mobile\n+13126266799\,\,95025431475#\,\,\,\,*833630# US (Chicago) \nDial by your location\n+1 312 626 6799 US (Chicago) \nMeeting ID: 950 2543 1475\nPasscode: 833630\nFind your local number: lrcsda.zoom.us/u/ax4xq0DYu \nMay God continue to bless and keep the Great Lake Region Conference as “We Stand Together as One” in 2022. \nIn His Service\, \nGarth Gabriel\,\nPresident \n \nhttp://www.glendalempls.org/wp-content/uploads/2022/01/LRC-Day-of-Prayer-and-Fasting.mp4.mp4
URL:https://www.glendalempls.org/calendar/lrc-day-of-prayer-fasting/
END:VEVENT
END:VCALENDAR